BEGIN:VCALENDAR
VERSION:2.0
PRODID:-//CSVGC-NY - ECPv5.14.1//NONSGML v1.0//EN
CALSCALE:GREGORIAN
METHOD:PUBLISH
X-WR-CALNAME:CSVGC-NY
X-ORIGINAL-URL:http://csvgc-ny.org
X-WR-CALDESC:Events for CSVGC-NY
BEGIN:VTIMEZONE
TZID:America/New_York
BEGIN:DAYLIGHT
TZOFFSETFROM:-0500
TZOFFSETTO:-0400
TZNAME:EDT
DTSTART:20160313T070000
END:DAYLIGHT
BEGIN:STANDARD
TZOFFSETFROM:-0400
TZOFFSETTO:-0500
TZNAME:EST
DTSTART:20161106T060000
END:STANDARD
END:VTIMEZONE
BEGIN:VEVENT
DTSTART;TZID=America/New_York:20161027T130000
DTEND;TZID=America/New_York:20161027T150000
DTSTAMP:20260421T170946
CREATED:20160921T232635Z
LAST-MODIFIED:20160921T233103Z
UID:351-1477573200-1477580400@csvgc-ny.org
SUMMARY:Equal Partnership with Youth for Global Achievements
DESCRIPTION:Presented by CSVGC-NY Spiritual Council for Global Concerns Working Group
URL:http://csvgc-ny.org/event/equal-partnership-with-youth-for-global-achievements/
LOCATION:UN Foundation\, 801 2nd Avenue\, Suite 900\, New York\, NY\, 10017\, United States
END:VEVENT
END:VCALENDAR