BEGIN:VCALENDAR
VERSION:2.0
PRODID:-//CSVGC-NY - ECPv5.14.1//NONSGML v1.0//EN
CALSCALE:GREGORIAN
METHOD:PUBLISH
X-WR-CALNAME:CSVGC-NY
X-ORIGINAL-URL:http://csvgc-ny.org
X-WR-CALDESC:Events for CSVGC-NY
BEGIN:VTIMEZONE
TZID:America/New_York
BEGIN:DAYLIGHT
TZOFFSETFROM:-0500
TZOFFSETTO:-0400
TZNAME:EDT
DTSTART:20170312T070000
END:DAYLIGHT
BEGIN:STANDARD
TZOFFSETFROM:-0400
TZOFFSETTO:-0500
TZNAME:EST
DTSTART:20171105T060000
END:STANDARD
END:VTIMEZONE
BEGIN:VEVENT
DTSTART;TZID=America/New_York:20171025T100000
DTEND;TZID=America/New_York:20171025T120000
DTSTAMP:20260421T074030
CREATED:20171015T010626Z
LAST-MODIFIED:20171015T010626Z
UID:463-1508925600-1508932800@csvgc-ny.org
SUMMARY:Refugee Women and Reliance on Spirituality
DESCRIPTION:Presented by Women Rising Working Group
URL:http://csvgc-ny.org/event/refugee-women-reliance-spirituality/
LOCATION:Salvation Army Auditorium\, 221 E 52nd St\, New York\, NY\, 10022\, United States
END:VEVENT
END:VCALENDAR